BEGIN:VCALENDAR
VERSION:2.0
PRODID:-//PropcomPlus - ECPv6.15.10//NONSGML v1.0//EN
CALSCALE:GREGORIAN
METHOD:PUBLISH
X-ORIGINAL-URL:https://propcomplus.org
X-WR-CALDESC:Events for PropcomPlus
REFRESH-INTERVAL;VALUE=DURATION:PT1H
X-Robots-Tag:noindex
X-PUBLISHED-TTL:PT1H
BEGIN:VTIMEZONE
TZID:UTC
BEGIN:STANDARD
TZOFFSETFROM:+0000
TZOFFSETTO:+0000
TZNAME:UTC
DTSTART:20250101T000000
END:STANDARD
END:VTIMEZONE
BEGIN:VEVENT
DTSTART;TZID=UTC:20260303T080000
DTEND;TZID=UTC:20260304T170000
DTSTAMP:20260424T033552
CREATED:20260302T121859Z
LAST-MODIFIED:20260302T121859Z
UID:7421-1772524800-1772643600@propcomplus.org
SUMMARY:Agricultural Value Chain Finance and Risk Management Training
DESCRIPTION:This training is designed as a practical and participatory programme aimed at equipping partner financial institutions with the technical knowledge and tools required to enhance agricultural financing operations.\nTraining Objectives:\nThe two‑day session will strengthen the capacity of partner financial institutions to:\n\nExpand agricultural lending\,\nApply value chain finance approaches\,\nIntegrate climate‑smart agriculture financing\,\nDeploy risk mitigation strategies\,\nImprove loan pricing strategies\,\n\nIncrease financing access for women‑owned agribusinesses.
URL:https://propcomplus.org/event/agricultural-value-chain-finance-and-risk-management-training/
END:VEVENT
END:VCALENDAR