BEGIN:VCALENDAR
VERSION:2.0
PRODID:-//PropcomPlus - ECPv6.15.10//NONSGML v1.0//EN
CALSCALE:GREGORIAN
METHOD:PUBLISH
X-WR-CALNAME:PropcomPlus
X-ORIGINAL-URL:https://propcomplus.org
X-WR-CALDESC:Events for PropcomPlus
REFRESH-INTERVAL;VALUE=DURATION:PT1H
X-Robots-Tag:noindex
X-PUBLISHED-TTL:PT1H
BEGIN:VTIMEZONE
TZID:UTC
BEGIN:STANDARD
TZOFFSETFROM:+0000
TZOFFSETTO:+0000
TZNAME:UTC
DTSTART:20240101T000000
END:STANDARD
END:VTIMEZONE
BEGIN:VEVENT
DTSTART;TZID=UTC:20250619T080000
DTEND;TZID=UTC:20250619T160000
DTSTAMP:20260424T162246
CREATED:20250609T141614Z
LAST-MODIFIED:20250620T143640Z
UID:6476-1750320000-1750348800@propcomplus.org
SUMMARY:Business Readiness\, Organisational Capacity Improvement\, Access to Finance Strategy Dissemination Workshop
DESCRIPTION:Propcom+ is delighted to host a Business Readiness\, Organisational Capacity Improvement\, and Access to Finance (A2F) Strategy Dissemination Workshop\, scheduled to hold in Lagos on 19 June 2025\, in Lagos\, Nigeria. \nThe overall purpose of the A2F Workshop is to create awareness and sensitise current and potential partners of Propcom+ about the finance and investment facilitation support component of the programme and the opportunities for collaboration and partnership in developing and delivering appropriate financial products and services for smallholder farmers and businesses. The event will expose the participants to the available opportunities that exist in the larger financial sector and markets\, particularly from selected agri-friendly financiers and investors. \n 
URL:https://propcomplus.org/event/business-readiness-organisational-capacity-improvement-access-to-finance-strategy-dissemination-workshop/
ATTACH;FMTTYPE=image/jpeg:https://propcomplus.org/wp-content/uploads/2025/06/Propcom_Dissemination-Workshop-e-banner1-scaled-e1750430081121.jpg
END:VEVENT
END:VCALENDAR